BEGIN:VCALENDAR
VERSION:2.0
PRODID:-//Tume-Agri - ECPv6.15.12.2//NONSGML v1.0//EN
CALSCALE:GREGORIAN
METHOD:PUBLISH
X-WR-CALNAME:Tume-Agri
X-ORIGINAL-URL:https://tumeagri.fi
X-WR-CALDESC:Tapahtumat Tume-Agri
REFRESH-INTERVAL;VALUE=DURATION:PT1H
X-Robots-Tag:noindex
X-PUBLISHED-TTL:PT1H
BEGIN:VTIMEZONE
TZID:Europe/Helsinki
BEGIN:DAYLIGHT
TZOFFSETFROM:+0200
TZOFFSETTO:+0300
TZNAME:EEST
DTSTART:20240331T010000
END:DAYLIGHT
BEGIN:STANDARD
TZOFFSETFROM:+0300
TZOFFSETTO:+0200
TZNAME:EET
DTSTART:20241027T010000
END:STANDARD
BEGIN:DAYLIGHT
TZOFFSETFROM:+0200
TZOFFSETTO:+0300
TZNAME:EEST
DTSTART:20250330T010000
END:DAYLIGHT
BEGIN:STANDARD
TZOFFSETFROM:+0300
TZOFFSETTO:+0200
TZNAME:EET
DTSTART:20251026T010000
END:STANDARD
BEGIN:DAYLIGHT
TZOFFSETFROM:+0200
TZOFFSETTO:+0300
TZNAME:EEST
DTSTART:20260329T010000
END:DAYLIGHT
BEGIN:STANDARD
TZOFFSETFROM:+0300
TZOFFSETTO:+0200
TZNAME:EET
DTSTART:20261025T010000
END:STANDARD
END:VTIMEZONE
BEGIN:VEVENT
DTSTART;TZID=Europe/Helsinki:20250502T080000
DTEND;TZID=Europe/Helsinki:20250705T170000
DTSTAMP:20260419T230246
CREATED:20250314T094804Z
LAST-MODIFIED:20250314T094844Z
UID:31694-1746172800-1751734800@tumeagri.fi
SUMMARY:OKRA-maatalousnäyttely 2025
DESCRIPTION:OKRA-maatalousnäyttely Oripäässä
URL:https://tumeagri.fi/tapahtuma/okra-maatalousnayttely-2025/
LOCATION:Oripää\, Finland
ATTACH;FMTTYPE=image/jpeg:https://tumeagri.fi/wp-content/uploads/2020/01/OKRA_logo_vihrea_pieni.jpg
END:VEVENT
BEGIN:VEVENT
DTSTART;TZID=Europe/Helsinki:20251009T080000
DTEND;TZID=Europe/Helsinki:20251011T170000
DTSTAMP:20260419T230246
CREATED:20250314T095428Z
LAST-MODIFIED:20250314T100414Z
UID:31697-1759996800-1760202000@tumeagri.fi
SUMMARY:Koneagria 2025
DESCRIPTION:Koneagria Tampereella
URL:https://tumeagri.fi/tapahtuma/koneagria-2025/
LOCATION:Tampere\, Finland
ATTACH;FMTTYPE=image/jpeg:https://tumeagri.fi/wp-content/uploads/2020/01/koneagria2025.jpeg
END:VEVENT
BEGIN:VEVENT
DTSTART;TZID=Europe/Helsinki:20251109T080000
DTEND;TZID=Europe/Helsinki:20251115T170000
DTSTAMP:20260419T230246
CREATED:20250314T100752Z
LAST-MODIFIED:20250314T100752Z
UID:31700-1762675200-1763226000@tumeagri.fi
SUMMARY:Agritechnica 2025
DESCRIPTION:Agritechnica Hanover 2025
URL:https://tumeagri.fi/tapahtuma/agritechnica-2025/
LOCATION:Hanover\, Germany
ATTACH;FMTTYPE=image/jpeg:https://tumeagri.fi/wp-content/uploads/2020/01/AT_logo_3c_Flaeche.jpeg
END:VEVENT
END:VCALENDAR