BEGIN:VCALENDAR
VERSION:2.0
PRODID:-//Tume-Agri - ECPv6.15.12.2//NONSGML v1.0//EN
CALSCALE:GREGORIAN
METHOD:PUBLISH
X-ORIGINAL-URL:https://tumeagri.fi
X-WR-CALDESC:Tapahtumat Tume-Agri
REFRESH-INTERVAL;VALUE=DURATION:PT1H
X-Robots-Tag:noindex
X-PUBLISHED-TTL:PT1H
BEGIN:VTIMEZONE
TZID:Europe/Helsinki
BEGIN:DAYLIGHT
TZOFFSETFROM:+0200
TZOFFSETTO:+0300
TZNAME:EEST
DTSTART:20220327T010000
END:DAYLIGHT
BEGIN:STANDARD
TZOFFSETFROM:+0300
TZOFFSETTO:+0200
TZNAME:EET
DTSTART:20221030T010000
END:STANDARD
BEGIN:DAYLIGHT
TZOFFSETFROM:+0200
TZOFFSETTO:+0300
TZNAME:EEST
DTSTART:20230326T010000
END:DAYLIGHT
BEGIN:STANDARD
TZOFFSETFROM:+0300
TZOFFSETTO:+0200
TZNAME:EET
DTSTART:20231029T010000
END:STANDARD
BEGIN:DAYLIGHT
TZOFFSETFROM:+0200
TZOFFSETTO:+0300
TZNAME:EEST
DTSTART:20240331T010000
END:DAYLIGHT
BEGIN:STANDARD
TZOFFSETFROM:+0300
TZOFFSETTO:+0200
TZNAME:EET
DTSTART:20241027T010000
END:STANDARD
BEGIN:DAYLIGHT
TZOFFSETFROM:+0200
TZOFFSETTO:+0300
TZNAME:EEST
DTSTART:20250330T010000
END:DAYLIGHT
BEGIN:STANDARD
TZOFFSETFROM:+0300
TZOFFSETTO:+0200
TZNAME:EET
DTSTART:20251026T010000
END:STANDARD
BEGIN:DAYLIGHT
TZOFFSETFROM:+0200
TZOFFSETTO:+0300
TZNAME:EEST
DTSTART:20260329T010000
END:DAYLIGHT
BEGIN:STANDARD
TZOFFSETFROM:+0300
TZOFFSETTO:+0200
TZNAME:EET
DTSTART:20261025T010000
END:STANDARD
END:VTIMEZONE
BEGIN:VTIMEZONE
TZID:UTC
BEGIN:STANDARD
TZOFFSETFROM:+0000
TZOFFSETTO:+0000
TZNAME:UTC
DTSTART:20210101T000000
END:STANDARD
END:VTIMEZONE
BEGIN:VEVENT
DTSTART;TZID=Europe/Helsinki:20251109T080000
DTEND;TZID=Europe/Helsinki:20251115T170000
DTSTAMP:20260419T225302
CREATED:20250314T100752Z
LAST-MODIFIED:20250314T100752Z
UID:31700-1762675200-1763226000@tumeagri.fi
SUMMARY:Agritechnica 2025
DESCRIPTION:Agritechnica Hanover 2025
URL:https://tumeagri.fi/tapahtuma/agritechnica-2025/
LOCATION:Hanover\, Germany
ATTACH;FMTTYPE=image/jpeg:https://tumeagri.fi/wp-content/uploads/2020/01/AT_logo_3c_Flaeche.jpeg
END:VEVENT
BEGIN:VEVENT
DTSTART;TZID=Europe/Helsinki:20251009T080000
DTEND;TZID=Europe/Helsinki:20251011T170000
DTSTAMP:20260419T225302
CREATED:20250314T095428Z
LAST-MODIFIED:20250314T100414Z
UID:31697-1759996800-1760202000@tumeagri.fi
SUMMARY:Koneagria 2025
DESCRIPTION:Koneagria Tampereella
URL:https://tumeagri.fi/tapahtuma/koneagria-2025/
LOCATION:Tampere\, Finland
ATTACH;FMTTYPE=image/jpeg:https://tumeagri.fi/wp-content/uploads/2020/01/koneagria2025.jpeg
END:VEVENT
BEGIN:VEVENT
DTSTART;TZID=Europe/Helsinki:20250502T080000
DTEND;TZID=Europe/Helsinki:20250705T170000
DTSTAMP:20260419T225302
CREATED:20250314T094804Z
LAST-MODIFIED:20250314T094844Z
UID:31694-1746172800-1751734800@tumeagri.fi
SUMMARY:OKRA-maatalousnäyttely 2025
DESCRIPTION:OKRA-maatalousnäyttely Oripäässä
URL:https://tumeagri.fi/tapahtuma/okra-maatalousnayttely-2025/
LOCATION:Oripää\, Finland
ATTACH;FMTTYPE=image/jpeg:https://tumeagri.fi/wp-content/uploads/2020/01/OKRA_logo_vihrea_pieni.jpg
END:VEVENT
BEGIN:VEVENT
DTSTART;TZID=Europe/Helsinki:20241106T080000
DTEND;TZID=Europe/Helsinki:20241110T170000
DTSTAMP:20260419T225302
CREATED:20241101T074103Z
LAST-MODIFIED:20241101T074103Z
UID:31120-1730880000-1731258000@tumeagri.fi
SUMMARY:EIMA International Bologna Italia
DESCRIPTION:
URL:https://tumeagri.fi/tapahtuma/eima-international-bologna-italia/
LOCATION:Bologna
ATTACH;FMTTYPE=image/png:https://tumeagri.fi/wp-content/uploads/2024/10/logo-eima.png
END:VEVENT
BEGIN:VEVENT
DTSTART;TZID=Europe/Helsinki:20241017T080000
DTEND;TZID=Europe/Helsinki:20241019T170000
DTSTAMP:20260419T225302
CREATED:20240821T080635Z
LAST-MODIFIED:20240821T082616Z
UID:30699-1729152000-1729357200@tumeagri.fi
SUMMARY:Maataluoskonemessut Helsinki
DESCRIPTION:
URL:https://tumeagri.fi/tapahtuma/maataluoskonemessut-helsinki/
LOCATION:Helsingin messukeskus\, Suomi
END:VEVENT
BEGIN:VEVENT
DTSTART;TZID=Europe/Helsinki:20240829T080000
DTEND;TZID=Europe/Helsinki:20240903T170000
DTSTAMP:20260419T225302
CREATED:20240821T081639Z
LAST-MODIFIED:20240821T082313Z
UID:30703-1724918400-1725382800@tumeagri.fi
SUMMARY:Karpfhamer fest und Rottalchau
DESCRIPTION:
URL:https://tumeagri.fi/tapahtuma/karpfhamer-fest-und-rottalchau/
ATTACH;FMTTYPE=image/png:https://tumeagri.fi/wp-content/uploads/2024/08/logo_karpfhamer_fest-und-rottalschau_02_weisse-kontur.png
END:VEVENT
BEGIN:VEVENT
DTSTART;TZID=Europe/Helsinki:20240823T080000
DTEND;TZID=Europe/Helsinki:20240824T170000
DTSTAMP:20260419T225302
CREATED:20240821T081948Z
LAST-MODIFIED:20240821T081948Z
UID:30705-1724400000-1724518800@tumeagri.fi
SUMMARY:Nivalan maaseutunäyttely
DESCRIPTION:
URL:https://tumeagri.fi/tapahtuma/nivalan-maaseutunayttely/
END:VEVENT
BEGIN:VEVENT
DTSTART;TZID=Europe/Helsinki:20240704T080000
DTEND;TZID=Europe/Helsinki:20240706T170000
DTSTAMP:20260419T225302
CREATED:20231218T130522Z
LAST-MODIFIED:20231218T132939Z
UID:29376-1720080000-1720285200@tumeagri.fi
SUMMARY:Farmari Seinäjoki 2024
DESCRIPTION:Farmari Seinäjoki 2024 \nFarmari-maatalousnäyttely Seinäjoella 4.-6.7.2024! Paikkana Seinäjoki Areenan ja Uimahalli-Urheilutalon ympäristö.\nFarmari on vastuullisen suomalaisen maatalouden ja ruoantuotannon ammattitapahtuma ja näyteikkuna. Tapahtuma on täynnä ideoita ja ratkaisuja maatalouteen ja maaseutuyrittämiseen.\n\nAsiaa ja elämyksiä!\nFarmarissa on luvassa:\nKotieläinkenttä eläimineen ja tapahtumakehineen\,\nkattava konekenttäalue uutuuksineen\,\nmonipuolinen metsäosasto\,\npalveluita ja osaamista tarjoavat osastot sisä- ja ulkoalueilla.\nMukana on lisäksi ruoka-\, kädentaito- sekä eräosastoja sekä runsas kattaus ohjelmaa.
URL:https://tumeagri.fi/tapahtuma/farmari-seinajoki-2024/
ATTACH;FMTTYPE=image/png:https://tumeagri.fi/wp-content/uploads/2023/12/Farmari2024_varillinen_pvm.png
END:VEVENT
BEGIN:VEVENT
DTSTART;TZID=Europe/Helsinki:20240126T080000
DTEND;TZID=Europe/Helsinki:20240127T170000
DTSTAMP:20260419T225302
CREATED:20231215T073048Z
LAST-MODIFIED:20231218T130644Z
UID:29364-1706256000-1706374800@tumeagri.fi
SUMMARY:Sarkamessut Seinäjoella
DESCRIPTION:SARKAMESSUT 26.-27.1.2024\n\n\n\nSarkamessut on kaksipäiväinen maatilarakentamisen\, energian ja metsätalouden ammattilaistapahtuma. Sarkassa on näytteilleasettajien lisäksi mielenkiintoisia seminaareja\, paneelikeskusteluja ja tietoiskuja.
URL:https://tumeagri.fi/tapahtuma/sarkamessut-seinajoella/
CATEGORIES:Maatalous
ATTACH;FMTTYPE=image/png:https://tumeagri.fi/wp-content/uploads/2023/12/sarka_pallossa_rgb.png
END:VEVENT
BEGIN:VEVENT
DTSTART;VALUE=DATE:20231112
DTEND;VALUE=DATE:20231119
DTSTAMP:20260419T225302
CREATED:20221125T172438Z
LAST-MODIFIED:20230103T144525Z
UID:25940-1699747200-1700351999@tumeagri.fi
SUMMARY:Agritechnica Hannover
DESCRIPTION:HOME OF FARMING PIONEERS\n\n\n\nDiscover product innovations and the latest technologies in Hanover and at AGRITECHNICA digital from 12 to 18 November 2023. Benefit from the specialist knowledge of international experts and use our extensive business services. \n\n\n\nBecome part of the AGRITECHNICA network.
URL:https://tumeagri.fi/tapahtuma/agritechnica-hannover/
CATEGORIES:Maatalous
ATTACH;FMTTYPE=image/jpeg:https://tumeagri.fi/wp-content/uploads/2020/01/AT_logo_3c_Flaeche.jpeg
END:VEVENT
BEGIN:VEVENT
DTSTART;VALUE=DATE:20231012
DTEND;VALUE=DATE:20231015
DTSTAMP:20260419T225302
CREATED:20230103T144228Z
LAST-MODIFIED:20230103T144454Z
UID:26208-1697068800-1697327999@tumeagri.fi
SUMMARY:KoneAgria Tampere
DESCRIPTION:KoneAgria 2023 messut järjestetään Tampereella 12.-14.10.2023.
URL:https://tumeagri.fi/tapahtuma/koneagria-tampere/
END:VEVENT
BEGIN:VEVENT
DTSTART;VALUE=DATE:20230705
DTEND;VALUE=DATE:20230709
DTSTAMP:20260419T225302
CREATED:20230201T073710Z
LAST-MODIFIED:20230201T073742Z
UID:26994-1688515200-1688860799@tumeagri.fi
SUMMARY:Okra maatalousnäyttely
DESCRIPTION:OKRA – maatalousnäyttely\n\n\n\n\n\nYksi Suomen suurimmista maatalousnäyttelyistä kokoaa Oripäähän tuhannet messukävijät\, sadat näytteilleasettajat ja oikean maatalousnäyttelyn tunnelman. \nKoko perheen OKRA antaa katseltavaa ja koettavaa kaiken ikäisille\, mutta myös maa- ja metsätalouden ammattilaisille. Eläimet\, koneet\, kädentaidot ja tivolihuvit tekevät OKRA:sta paljon enemmän\, kuin pelkän maatalousnäyttelyn.
URL:https://tumeagri.fi/tapahtuma/okra-maatalousnayttely/
CATEGORIES:Maatalous
ATTACH;FMTTYPE=image/jpeg:https://tumeagri.fi/wp-content/uploads/2020/01/OKRA_logo_vihrea_pieni.jpg
END:VEVENT
BEGIN:VEVENT
DTSTART;VALUE=DATE:20230127
DTEND;VALUE=DATE:20230129
DTSTAMP:20260419T225302
CREATED:20221125T171414Z
LAST-MODIFIED:20221125T171947Z
UID:25934-1674777600-1674950399@tumeagri.fi
SUMMARY:Sarka-messut Seinäjoki
DESCRIPTION:Sarkamessut on kaksipäiväinen maatilarakentamisen\, energian ja metsätalouden ammattilaistapahtuma. Sarkassa on näytteilleasettajien lisäksi mielenkiintoisia seminaareja\, paneelikeskusteluja ja tietoiskuja.
URL:https://tumeagri.fi/tapahtuma/sarka-messut/
CATEGORIES:Maatalous
ATTACH;FMTTYPE=image/png:https://tumeagri.fi/wp-content/uploads/2020/01/sarka_vaaka_rgb.png
END:VEVENT
BEGIN:VEVENT
DTSTART;VALUE=DATE:20221019
DTEND;VALUE=DATE:20221022
DTSTAMP:20260419T225302
CREATED:20221020T090403Z
LAST-MODIFIED:20221020T090452Z
UID:23500-1666137600-1666396799@tumeagri.fi
SUMMARY:Elmia Sweden
DESCRIPTION:Elmia agri fair in Jönköping Sweden.
URL:https://tumeagri.fi/tapahtuma/elmia-sweden/
CATEGORIES:Maatalous
ATTACH;FMTTYPE=image/png:https://tumeagri.fi/wp-content/uploads/2022/10/elmialantbruk-eng.png
END:VEVENT
BEGIN:VEVENT
DTSTART;TZID=UTC:20221013T080000
DTEND;TZID=UTC:20221015T170000
DTSTAMP:20260419T225302
CREATED:20220829T092917Z
LAST-MODIFIED:20221020T093131Z
UID:21319-1665648000-1665853200@tumeagri.fi
SUMMARY:Maatalouskonemessut
DESCRIPTION:MaatalousKonemessut 2022 esittelee isosti koko maatalouden koneet\, laitteet ja palvelut!\nTarjolla on saman katon alla historian laajin kattaus koneita\, laitteita ja palveluita maatalouden tarpeisiin. Sisä- ja ulko-osastoilla oli vuonna 2018 esillä yli 300 yrityksen tuotteet ja palvelut! \nMessuilla esitellään laajasti nurmi-\, vilja- ja karjatalouden koneita ja laitteita. Esillä ovat myös eläinten ruokinta\, karjatalouden tuotantopanokset ja rakentaminen\, kasvinviljelyn tuotantopanokset ja viljakauppa\, ulko-alueiden hoidon ja urakoinnin koneet ja laitteet sekä metsätalouden koneet\, laitteet ja palvelut. Tapahtuman ohjelman laadun ja kiinnostavuuden takaa ammattitaitoinen ProAgria verkostoineen. \nMaatalousKonemessut keräsi 2018 järjestetyssä tapahtumassa 16 800 vierailijaa Messukeskukseen. \nhttps://maatalouskone.messukeskus.com/
URL:https://tumeagri.fi/tapahtuma/maatalouskonemessut/
LOCATION:Helsingin messukeskus\, Suomi
CATEGORIES:Maatalous
END:VEVENT
END:VCALENDAR