BEGIN:VCALENDAR
VERSION:2.0
PRODID:-//Tume-Agri - ECPv6.15.12.2//NONSGML v1.0//EN
CALSCALE:GREGORIAN
METHOD:PUBLISH
X-ORIGINAL-URL:https://tumeagri.fi
X-WR-CALDESC:Tapahtumat Tume-Agri
REFRESH-INTERVAL;VALUE=DURATION:PT1H
X-Robots-Tag:noindex
X-PUBLISHED-TTL:PT1H
BEGIN:VTIMEZONE
TZID:Europe/Helsinki
BEGIN:DAYLIGHT
TZOFFSETFROM:+0200
TZOFFSETTO:+0300
TZNAME:EEST
DTSTART:20230326T010000
END:DAYLIGHT
BEGIN:STANDARD
TZOFFSETFROM:+0300
TZOFFSETTO:+0200
TZNAME:EET
DTSTART:20231029T010000
END:STANDARD
BEGIN:DAYLIGHT
TZOFFSETFROM:+0200
TZOFFSETTO:+0300
TZNAME:EEST
DTSTART:20240331T010000
END:DAYLIGHT
BEGIN:STANDARD
TZOFFSETFROM:+0300
TZOFFSETTO:+0200
TZNAME:EET
DTSTART:20241027T010000
END:STANDARD
BEGIN:DAYLIGHT
TZOFFSETFROM:+0200
TZOFFSETTO:+0300
TZNAME:EEST
DTSTART:20250330T010000
END:DAYLIGHT
BEGIN:STANDARD
TZOFFSETFROM:+0300
TZOFFSETTO:+0200
TZNAME:EET
DTSTART:20251026T010000
END:STANDARD
END:VTIMEZONE
BEGIN:VEVENT
DTSTART;TZID=Europe/Helsinki:20240704T080000
DTEND;TZID=Europe/Helsinki:20240706T170000
DTSTAMP:20260420T073944
CREATED:20231218T130522Z
LAST-MODIFIED:20231218T132939Z
UID:29376-1720080000-1720285200@tumeagri.fi
SUMMARY:Farmari Seinäjoki 2024
DESCRIPTION:Farmari Seinäjoki 2024 \nFarmari-maatalousnäyttely Seinäjoella 4.-6.7.2024! Paikkana Seinäjoki Areenan ja Uimahalli-Urheilutalon ympäristö.\nFarmari on vastuullisen suomalaisen maatalouden ja ruoantuotannon ammattitapahtuma ja näyteikkuna. Tapahtuma on täynnä ideoita ja ratkaisuja maatalouteen ja maaseutuyrittämiseen.\n\nAsiaa ja elämyksiä!\nFarmarissa on luvassa:\nKotieläinkenttä eläimineen ja tapahtumakehineen\,\nkattava konekenttäalue uutuuksineen\,\nmonipuolinen metsäosasto\,\npalveluita ja osaamista tarjoavat osastot sisä- ja ulkoalueilla.\nMukana on lisäksi ruoka-\, kädentaito- sekä eräosastoja sekä runsas kattaus ohjelmaa.
URL:https://tumeagri.fi/tapahtuma/farmari-seinajoki-2024/
ATTACH;FMTTYPE=image/png:https://tumeagri.fi/wp-content/uploads/2023/12/Farmari2024_varillinen_pvm.png
END:VEVENT
END:VCALENDAR