BEGIN:VCALENDAR
VERSION:2.0
PRODID:-//Tume-Agri - ECPv6.15.12.2//NONSGML v1.0//EN
CALSCALE:GREGORIAN
METHOD:PUBLISH
X-WR-CALNAME:Tume-Agri
X-ORIGINAL-URL:https://tumeagri.fi
X-WR-CALDESC:Tapahtumat Tume-Agri
REFRESH-INTERVAL;VALUE=DURATION:PT1H
X-Robots-Tag:noindex
X-PUBLISHED-TTL:PT1H
BEGIN:VTIMEZONE
TZID:Europe/Helsinki
BEGIN:DAYLIGHT
TZOFFSETFROM:+0200
TZOFFSETTO:+0300
TZNAME:EEST
DTSTART:20220327T010000
END:DAYLIGHT
BEGIN:STANDARD
TZOFFSETFROM:+0300
TZOFFSETTO:+0200
TZNAME:EET
DTSTART:20221030T010000
END:STANDARD
BEGIN:DAYLIGHT
TZOFFSETFROM:+0200
TZOFFSETTO:+0300
TZNAME:EEST
DTSTART:20230326T010000
END:DAYLIGHT
BEGIN:STANDARD
TZOFFSETFROM:+0300
TZOFFSETTO:+0200
TZNAME:EET
DTSTART:20231029T010000
END:STANDARD
BEGIN:DAYLIGHT
TZOFFSETFROM:+0200
TZOFFSETTO:+0300
TZNAME:EEST
DTSTART:20240331T010000
END:DAYLIGHT
BEGIN:STANDARD
TZOFFSETFROM:+0300
TZOFFSETTO:+0200
TZNAME:EET
DTSTART:20241027T010000
END:STANDARD
END:VTIMEZONE
BEGIN:VEVENT
DTSTART;VALUE=DATE:20230127
DTEND;VALUE=DATE:20230129
DTSTAMP:20260423T055956
CREATED:20221125T171414Z
LAST-MODIFIED:20221125T171947Z
UID:25934-1674777600-1674950399@tumeagri.fi
SUMMARY:Sarka-messut Seinäjoki
DESCRIPTION:Sarkamessut on kaksipäiväinen maatilarakentamisen\, energian ja metsätalouden ammattilaistapahtuma. Sarkassa on näytteilleasettajien lisäksi mielenkiintoisia seminaareja\, paneelikeskusteluja ja tietoiskuja.
URL:https://tumeagri.fi/tapahtuma/sarka-messut/
CATEGORIES:Maatalous
ATTACH;FMTTYPE=image/png:https://tumeagri.fi/wp-content/uploads/2020/01/sarka_vaaka_rgb.png
END:VEVENT
END:VCALENDAR