BEGIN:VCALENDAR
VERSION:2.0
PRODID:-//Tume-Agri - ECPv6.15.12.2//NONSGML v1.0//EN
CALSCALE:GREGORIAN
METHOD:PUBLISH
X-WR-CALNAME:Tume-Agri
X-ORIGINAL-URL:https://tumeagri.fi
X-WR-CALDESC:Tapahtumat Tume-Agri
REFRESH-INTERVAL;VALUE=DURATION:PT1H
X-Robots-Tag:noindex
X-PUBLISHED-TTL:PT1H
BEGIN:VTIMEZONE
TZID:Europe/Helsinki
BEGIN:DAYLIGHT
TZOFFSETFROM:+0200
TZOFFSETTO:+0300
TZNAME:EEST
DTSTART:20230326T010000
END:DAYLIGHT
BEGIN:STANDARD
TZOFFSETFROM:+0300
TZOFFSETTO:+0200
TZNAME:EET
DTSTART:20231029T010000
END:STANDARD
BEGIN:DAYLIGHT
TZOFFSETFROM:+0200
TZOFFSETTO:+0300
TZNAME:EEST
DTSTART:20240331T010000
END:DAYLIGHT
BEGIN:STANDARD
TZOFFSETFROM:+0300
TZOFFSETTO:+0200
TZNAME:EET
DTSTART:20241027T010000
END:STANDARD
BEGIN:DAYLIGHT
TZOFFSETFROM:+0200
TZOFFSETTO:+0300
TZNAME:EEST
DTSTART:20250330T010000
END:DAYLIGHT
BEGIN:STANDARD
TZOFFSETFROM:+0300
TZOFFSETTO:+0200
TZNAME:EET
DTSTART:20251026T010000
END:STANDARD
END:VTIMEZONE
BEGIN:VEVENT
DTSTART;TZID=Europe/Helsinki:20240829T080000
DTEND;TZID=Europe/Helsinki:20240903T170000
DTSTAMP:20260420T055217
CREATED:20240821T081639Z
LAST-MODIFIED:20240821T082313Z
UID:30703-1724918400-1725382800@tumeagri.fi
SUMMARY:Karpfhamer fest und Rottalchau
DESCRIPTION:
URL:https://tumeagri.fi/tapahtuma/karpfhamer-fest-und-rottalchau/
ATTACH;FMTTYPE=image/png:https://tumeagri.fi/wp-content/uploads/2024/08/logo_karpfhamer_fest-und-rottalschau_02_weisse-kontur.png
END:VEVENT
END:VCALENDAR