BEGIN:VCALENDAR
VERSION:2.0
PRODID:-//Tume-Agri - ECPv6.15.12.2//NONSGML v1.0//EN
CALSCALE:GREGORIAN
METHOD:PUBLISH
X-WR-CALNAME:Tume-Agri
X-ORIGINAL-URL:https://tumeagri.fi
X-WR-CALDESC:Tapahtumat Tume-Agri
REFRESH-INTERVAL;VALUE=DURATION:PT1H
X-Robots-Tag:noindex
X-PUBLISHED-TTL:PT1H
BEGIN:VTIMEZONE
TZID:Europe/Helsinki
BEGIN:DAYLIGHT
TZOFFSETFROM:+0200
TZOFFSETTO:+0300
TZNAME:EEST
DTSTART:20220327T010000
END:DAYLIGHT
BEGIN:STANDARD
TZOFFSETFROM:+0300
TZOFFSETTO:+0200
TZNAME:EET
DTSTART:20221030T010000
END:STANDARD
BEGIN:DAYLIGHT
TZOFFSETFROM:+0200
TZOFFSETTO:+0300
TZNAME:EEST
DTSTART:20230326T010000
END:DAYLIGHT
BEGIN:STANDARD
TZOFFSETFROM:+0300
TZOFFSETTO:+0200
TZNAME:EET
DTSTART:20231029T010000
END:STANDARD
BEGIN:DAYLIGHT
TZOFFSETFROM:+0200
TZOFFSETTO:+0300
TZNAME:EEST
DTSTART:20240331T010000
END:DAYLIGHT
BEGIN:STANDARD
TZOFFSETFROM:+0300
TZOFFSETTO:+0200
TZNAME:EET
DTSTART:20241027T010000
END:STANDARD
END:VTIMEZONE
BEGIN:VEVENT
DTSTART;VALUE=DATE:20231112
DTEND;VALUE=DATE:20231119
DTSTAMP:20260422T171457
CREATED:20221125T172438Z
LAST-MODIFIED:20230103T144525Z
UID:25940-1699747200-1700351999@tumeagri.fi
SUMMARY:Agritechnica Hannover
DESCRIPTION:HOME OF FARMING PIONEERS\n\n\n\nDiscover product innovations and the latest technologies in Hanover and at AGRITECHNICA digital from 12 to 18 November 2023. Benefit from the specialist knowledge of international experts and use our extensive business services. \n\n\n\nBecome part of the AGRITECHNICA network.
URL:https://tumeagri.fi/tapahtuma/agritechnica-hannover/
CATEGORIES:Maatalous
ATTACH;FMTTYPE=image/jpeg:https://tumeagri.fi/wp-content/uploads/2020/01/AT_logo_3c_Flaeche.jpeg
END:VEVENT
END:VCALENDAR